BEGIN:VCALENDAR
VERSION:2.0
PRODID:-//www.cheerfulhelpers.org//NONSGML kigkonsult.se iCalcreator 2.30.1
 0//
CALSCALE:GREGORIAN
METHOD:PUBLISH
UID:3675c942-2eb0-4a06-8808-efbd4a964a9f
X-WR-CALDESC:
X-WR-RELCALID:85b828a1d775ab3276bf9d5361187db9
X-WR-TIMEZONE:America/Los_Angeles
BEGIN:VTIMEZONE
TZID:America/Los_Angeles
BEGIN:STANDARD
TZNAME:PST
DTSTART:20201101T020000
TZOFFSETFROM:-0700
TZOFFSETTO:-0800
RDATE:20211107T020000
RDATE:20221106T020000
END:STANDARD
BEGIN:DAYLIGHT
TZNAME:PDT
DTSTART:20210314T020000
TZOFFSETFROM:-0800
TZOFFSETTO:-0700
RDATE:20220313T020000
END:DAYLIGHT
END:VTIMEZONE
BEGIN:VEVENT
UID:05e43863-caa4-4a52-9d20-9ee6b6fd3932
DTSTAMP:20260420T082213Z
DESCRIPTION:
DTSTART;TZID=America/Los_Angeles:20210730T000000
DTEND;TZID=America/Los_Angeles:20210730T235900
LOCATION:
SUMMARY:Graduation Day
END:VEVENT
END:VCALENDAR
