BEGIN:VCALENDAR
VERSION:2.0
PRODID:-//www.cheerfulhelpers.org//NONSGML kigkonsult.se iCalcreator 2.30.1
 0//
CALSCALE:GREGORIAN
METHOD:PUBLISH
UID:11f7fa47-b8d8-45ef-b8e0-2e8785b42f29
X-WR-CALDESC:
X-WR-RELCALID:698787c57e4fee5e0881e5533fc66e2b
X-WR-TIMEZONE:America/Los_Angeles
BEGIN:VTIMEZONE
TZID:America/Los_Angeles
BEGIN:STANDARD
TZNAME:PST
DTSTART:20211107T020000
TZOFFSETFROM:-0700
TZOFFSETTO:-0800
RDATE:20221106T020000
RDATE:20231105T020000
END:STANDARD
BEGIN:DAYLIGHT
TZNAME:PDT
DTSTART:20220313T020000
TZOFFSETFROM:-0800
TZOFFSETTO:-0700
RDATE:20230312T020000
END:DAYLIGHT
END:VTIMEZONE
BEGIN:VEVENT
UID:2770bca2-35d1-4e06-9d9f-4ac1c72ffda0
DTSTAMP:20260421T042012Z
DESCRIPTION:
DTSTART;TZID=America/Los_Angeles:20220803T090000
DTEND;TZID=America/Los_Angeles:20220803T130000
LOCATION:
SUMMARY:Summer Camp
END:VEVENT
END:VCALENDAR
