BEGIN:VCALENDAR
VERSION:2.0
PRODID:-//www.cheerfulhelpers.org//NONSGML kigkonsult.se iCalcreator 2.30.1
 0//
CALSCALE:GREGORIAN
METHOD:PUBLISH
UID:6825b43d-79c8-4e92-8e6b-4af253b46458
X-WR-CALDESC:
X-WR-RELCALID:f192c655335a7352382bfb31bb275e8d
X-WR-TIMEZONE:America/Los_Angeles
BEGIN:VTIMEZONE
TZID:America/Los_Angeles
BEGIN:STANDARD
TZNAME:PST
DTSTART:20251102T020000
TZOFFSETFROM:-0700
TZOFFSETTO:-0800
RDATE:20261101T020000
END:STANDARD
BEGIN:DAYLIGHT
TZNAME:PDT
DTSTART:20260308T020000
TZOFFSETFROM:-0800
TZOFFSETTO:-0700
RDATE:20270314T020000
END:DAYLIGHT
END:VTIMEZONE
BEGIN:VEVENT
UID:b23b8a66-cc8e-4f55-96a8-ed22821f4816
DTSTAMP:20260420T082707Z
DESCRIPTION:
DTSTART;TZID=America/Los_Angeles:20260314T090000
DTEND;TZID=America/Los_Angeles:20260314T100000
LOCATION:https://us06web.zoom.us/my/osyc1928
SUMMARY:Alumni Support Group
END:VEVENT
END:VCALENDAR
