BEGIN:VCALENDAR
VERSION:2.0
PRODID:-//www.cheerfulhelpers.org//NONSGML kigkonsult.se iCalcreator 2.30.1
 0//
CALSCALE:GREGORIAN
METHOD:PUBLISH
UID:f4e2e10c-d72b-4093-9045-3941f51b8207
X-WR-CALDESC:
X-WR-RELCALID:bc071d05b222c74624e06424aee1d822
X-WR-TIMEZONE:America/Los_Angeles
BEGIN:VTIMEZONE
TZID:America/Los_Angeles
BEGIN:STANDARD
TZNAME:PST
DTSTART:20251102T020000
TZOFFSETFROM:-0700
TZOFFSETTO:-0800
RDATE:20261101T020000
RDATE:20271107T020000
END:STANDARD
BEGIN:DAYLIGHT
TZNAME:PDT
DTSTART:20260308T020000
TZOFFSETFROM:-0800
TZOFFSETTO:-0700
RDATE:20270314T020000
END:DAYLIGHT
END:VTIMEZONE
BEGIN:VEVENT
UID:b31741a3-0ff7-44e7-bd2f-c849a3675a96
DTSTAMP:20260420T095320Z
DESCRIPTION:
DTSTART;TZID=America/Los_Angeles:20260619T000000
DTEND;TZID=America/Los_Angeles:20260619T235900
LOCATION:
SUMMARY:Juneteenth - No School
END:VEVENT
END:VCALENDAR
