BEGIN:VCALENDAR
VERSION:2.0
PRODID:-//www.cheerfulhelpers.org//NONSGML kigkonsult.se iCalcreator 2.30.1
 0//
CALSCALE:GREGORIAN
METHOD:PUBLISH
UID:57b5e0ff-3cb5-49bc-9963-6ada0a75789e
X-WR-CALDESC:
X-WR-RELCALID:9b206455eac61bcd3c83355f7c59e48a
X-WR-TIMEZONE:America/Los_Angeles
BEGIN:VTIMEZONE
TZID:America/Los_Angeles
BEGIN:STANDARD
TZNAME:PST
DTSTART:20251102T020000
TZOFFSETFROM:-0700
TZOFFSETTO:-0800
RDATE:20261101T020000
RDATE:20271107T020000
END:STANDARD
BEGIN:DAYLIGHT
TZNAME:PDT
DTSTART:20260308T020000
TZOFFSETFROM:-0800
TZOFFSETTO:-0700
RDATE:20270314T020000
END:DAYLIGHT
END:VTIMEZONE
BEGIN:VEVENT
UID:bddc5fb0-8faa-4610-9c7c-283d45585797
DTSTAMP:20260420T095259Z
DESCRIPTION:
DTSTART;TZID=America/Los_Angeles:20260619T030000
DTEND;TZID=America/Los_Angeles:20260619T030001
LOCATION:
SUMMARY:Juneteenth - No School
END:VEVENT
END:VCALENDAR
