BEGIN:VCALENDAR
VERSION:2.0
PRODID:-//www.cheerfulhelpers.org//NONSGML kigkonsult.se iCalcreator 2.30.1
 0//
CALSCALE:GREGORIAN
METHOD:PUBLISH
UID:f05fe08e-b7e5-4c58-880c-59f9734d33e3
X-WR-CALDESC:
X-WR-RELCALID:ec26be3986037338da87be215487dca7
X-WR-TIMEZONE:America/Los_Angeles
BEGIN:VTIMEZONE
TZID:America/Los_Angeles
BEGIN:STANDARD
TZNAME:PST
DTSTART:20201101T020000
TZOFFSETFROM:-0700
TZOFFSETTO:-0800
RDATE:20211107T020000
RDATE:20221106T020000
END:STANDARD
BEGIN:DAYLIGHT
TZNAME:PDT
DTSTART:20210314T020000
TZOFFSETFROM:-0800
TZOFFSETTO:-0700
RDATE:20220313T020000
END:DAYLIGHT
END:VTIMEZONE
BEGIN:VEVENT
UID:a6553b35-c908-48b6-8589-4669f7c1f0e5
DTSTAMP:20260420T070928Z
DESCRIPTION:
DTSTART;TZID=America/Los_Angeles:20210623T113000
DTEND;TZID=America/Los_Angeles:20210623T130000
LOCATION:
SUMMARY:Board Meeting
END:VEVENT
END:VCALENDAR
